BEGIN:VCALENDAR
VERSION:2.0
PRODID:-//disabilitypartnersil.org//NONSGML kigkonsult.se iCalcreator 2.30.
 10//
CALSCALE:GREGORIAN
METHOD:PUBLISH
UID:dd490854-517a-43b0-b83f-554cbbc7118c
X-WR-CALDESC:In this training\, organizations will learn about the BHC mode
 l of service for people with dual diagnosis of intellectual and developmen
 tal disability and mental health \nconditions. This flexible and community
 -integrated service model can be used for case management\, community supp
 ort\, therapy\, crisis management\, and more-- leveraging billable Medicai
 d funding.  The steps to become a Behavioral Health Clinic will be reviewe
 d and a panel of current BHC implementers will be present to share their e
 xperience and answer questions.
X-WR-RELCALID:353232adb16b1c3a4c9c27a00adeee65
X-WR-TIMEZONE:America/Chicago
BEGIN:VTIMEZONE
TZID:America/Chicago
BEGIN:STANDARD
TZNAME:CST
DTSTART:20251102T020000
TZOFFSETFROM:-0500
TZOFFSETTO:-0600
RDATE:20261101T020000
END:STANDARD
BEGIN:DAYLIGHT
TZNAME:CDT
DTSTART:20250309T020000
TZOFFSETFROM:-0600
TZOFFSETTO:-0500
RDATE:20260308T020000
RDATE:20270314T020000
END:DAYLIGHT
END:VTIMEZONE
BEGIN:VEVENT
UID:59c3c9a1-5cf2-4d2e-94ef-3493aad24431
DTSTAMP:20260419T162357Z
DESCRIPTION:In this training\, organizations will learn about the BHC model
  of service for people with dual diagnosis of intellectual and development
 al disability and mental health \nconditions. This flexible and community-
 integrated service model can be used for case management\, community suppo
 rt\, therapy\, crisis management\, and more-- leveraging billable Medicaid
  funding.  The steps to become a Behavioral Health Clinic will be reviewed
  and a panel of current BHC implementers will be present to share their ex
 perience and answer questions.
DTSTART;TZID=America/Chicago:20251105T100000
DTEND;TZID=America/Chicago:20251105T140000
LOCATION:UCP Seguin\, 7550 183rd St\, Tinley Park\, IL 60477 US
SUMMARY:Behavioral Health Clinic (BHC) Training
END:VEVENT
END:VCALENDAR
